BEGIN:VCALENDAR
VERSION:2.0
PRODID:-//ISKCON ISRAEL - ECPv4.6.4//NONSGML v1.0//EN
CALSCALE:GREGORIAN
METHOD:PUBLISH
X-WR-CALNAME:ISKCON ISRAEL
X-ORIGINAL-URL:http://iskcon.org.il
X-WR-CALDESC:Events for ISKCON ISRAEL
BEGIN:VEVENT
DTSTART;TZID=Asia/Jerusalem:20180421T140000
DTEND;TZID=Asia/Jerusalem:20180421T190000
DTSTAMP:20260421T131518
CREATED:20180418T153752Z
LAST-MODIFIED:20180419T155909Z
UID:1270-1524319200-1524337200@iskcon.org.il
SUMMARY:Программа и Харинама в Хайфе
DESCRIPTION:Традиционная харинама пройдет в Хайфе на набережной пляжа Додо в 17.00. До этого состоится программа для преданных с участием Е.М\, Парамананды Пури прабху\, начало в 14.00. \nТелефон для связи: 0548671182 (Манджари Према матаджи) \n
URL:http://iskcon.org.il/event/arinama-v-xajfe/
CATEGORIES:события севера
ATTACH;FMTTYPE=image/jpeg:http://iskcon.org.il/wp-content/uploads/29513061_152253065601807_6565749233632640762_n.jpg
END:VEVENT
END:VCALENDAR