BEGIN:VCALENDAR
VERSION:2.0
PRODID:-//ISKCON ISRAEL - ECPv4.6.4//NONSGML v1.0//EN
CALSCALE:GREGORIAN
METHOD:PUBLISH
X-WR-CALNAME:ISKCON ISRAEL
X-ORIGINAL-URL:http://iskcon.org.il
X-WR-CALDESC:Events for ISKCON ISRAEL
BEGIN:VEVENT
DTSTART;TZID=Asia/Jerusalem:20180420T170000
DTEND;TZID=Asia/Jerusalem:20180420T190000
DTSTAMP:20260421T144034
CREATED:20180418T153136Z
LAST-MODIFIED:20180418T153136Z
UID:1264-1524243600-1524250800@iskcon.org.il
SUMMARY:Программа в Араде
DESCRIPTION:В пятницу\, 20 апреля\, в Араде пройдет программа с участием Е.М. Нара Хари прабху. Начало в 17.00. \nПодробности пр телефону 050-818-7380 (матаджи Вика) \n
URL:http://iskcon.org.il/event/programma-v-arade/
CATEGORIES:события юга
ATTACH;FMTTYPE=image/jpeg:http://iskcon.org.il/wp-content/uploads/18342531_10209137835872041_4801543118352115749_n.jpg
END:VEVENT
END:VCALENDAR