BEGIN:VCALENDAR
VERSION:2.0
PRODID:-//ISKCON ISRAEL - ECPv4.6.4//NONSGML v1.0//EN
CALSCALE:GREGORIAN
METHOD:PUBLISH
X-WR-CALNAME:ISKCON ISRAEL
X-ORIGINAL-URL:http://iskcon.org.il
X-WR-CALDESC:Events for ISKCON ISRAEL
BEGIN:VEVENT
DTSTART;VALUE=DATE:20180423
DTEND;VALUE=DATE:20180424
DTSTAMP:20260421T101451
CREATED:20180422T122318Z
LAST-MODIFIED:20180422T122318Z
UID:1276-1524441600-1524527999@iskcon.org.il
SUMMARY:Санкиртана и программа в Беэр-Шеве
DESCRIPTION:В понедельник\, 23.04\, в рамках 10-ти дней усиленной санкиртаны перед Шри Нрсимха Чатурдаши санкиртана пройдет в Беэр-Шеве. начало в 12.30. \nТелефон для связи с Вайшнаванандой прабху 054-493-8012 \nТакже после санкиртаны начнется программа с участием Е. М. Нара Хари прабху и Е. М. Тривикрама прабху. Начало в 18:00. \n
URL:http://iskcon.org.il/event/sankirtana-i-programma-v-beer-sheve/
CATEGORIES:санкиртана,события юга
ATTACH;FMTTYPE=image/jpeg:http://iskcon.org.il/wp-content/uploads/WhatsApp-Image-2018-04-20-at-5.02.57-PM.jpeg
END:VEVENT
END:VCALENDAR