BEGIN:VCALENDAR
VERSION:2.0
PRODID:-//ISKCON ISRAEL - ECPv4.6.4//NONSGML v1.0//EN
CALSCALE:GREGORIAN
METHOD:PUBLISH
X-WR-CALNAME:ISKCON ISRAEL
X-ORIGINAL-URL:http://iskcon.org.il
X-WR-CALDESC:Events for ISKCON ISRAEL
BEGIN:VEVENT
DTSTART;TZID=Asia/Jerusalem:20180421T103000
DTEND;TZID=Asia/Jerusalem:20180421T123000
DTSTAMP:20260421T125753
CREATED:20180417T112338Z
LAST-MODIFIED:20180417T112338Z
UID:1244-1524306600-1524313800@iskcon.org.il
SUMMARY:Санкиртана и Харинама в Тель-Авиве
DESCRIPTION:В субботу\, 21.04\, в рамках 10-ти дней усиленной санкиртаны перед Шри Нрсимха Чатурдаши санкиртана пройдет во время харинамы на набережной Тель-Авива с 10.30 до 12.30. \nТелефон для связи с Вайшнаванандой прабху 054-493-8012 \n
URL:http://iskcon.org.il/event/sankirtana-i-xarinama-v-tel-avive-2/
CATEGORIES:санкиртана,Харинама
ATTACH;FMTTYPE=image/jpeg:http://iskcon.org.il/wp-content/uploads/20841036_10214621861839653_2928493077745016187_n.jpg
END:VEVENT
END:VCALENDAR