BEGIN:VCALENDAR
VERSION:2.0
PRODID:-//ISKCON ISRAEL - ECPv4.6.4//NONSGML v1.0//EN
CALSCALE:GREGORIAN
METHOD:PUBLISH
X-WR-CALNAME:ISKCON ISRAEL
X-ORIGINAL-URL:http://iskcon.org.il
X-WR-CALDESC:Events for ISKCON ISRAEL
BEGIN:VEVENT
DTSTART;TZID=Asia/Jerusalem:20180424T123000
DTEND;TZID=Asia/Jerusalem:20180424T150000
DTSTAMP:20260421T114514
CREATED:20180422T122517Z
LAST-MODIFIED:20180422T123622Z
UID:1278-1524573000-1524582000@iskcon.org.il
SUMMARY:Санкиртана в Беэр-Шеве
DESCRIPTION:Во вторник\, 24.04\, в рамках 10-ти дней усиленной санкиртаны перед Шри Нрсимха Чатурдаши санкиртана пройдет в Беэр-Шеве\, начало в 12.30. \nТелефон для связи с Вайшнаванандой прабху 054-493-8012 \n
URL:http://iskcon.org.il/event/sankirtana-v-beer-sheve-3/
CATEGORIES:санкиртана,события юга
ATTACH;FMTTYPE=image/jpeg:http://iskcon.org.il/wp-content/uploads/WhatsApp-Image-2018-04-19-at-5.00.25-PM.jpeg
END:VEVENT
END:VCALENDAR