BEGIN:VCALENDAR
VERSION:2.0
PRODID:-//ISKCON ISRAEL - ECPv4.6.4//NONSGML v1.0//EN
CALSCALE:GREGORIAN
METHOD:PUBLISH
X-WR-CALNAME:ISKCON ISRAEL
X-ORIGINAL-URL:http://iskcon.org.il
X-WR-CALDESC:Events for ISKCON ISRAEL
BEGIN:VEVENT
DTSTART;TZID=Asia/Jerusalem:20180425T123000
DTEND;TZID=Asia/Jerusalem:20180425T150000
DTSTAMP:20260421T125734
CREATED:20180422T122654Z
LAST-MODIFIED:20180422T123612Z
UID:1280-1524659400-1524668400@iskcon.org.il
SUMMARY:Санкиртана в Тель-Авиве
DESCRIPTION:Во среду\, 25.04\, в рамках 10-ти дней усиленной санкиртаны перед Шри Нрсимха Чатурдаши санкиртана пройдет в Тель-Авиве\, начало в 12.30. \nТелефон для связи с Вайшнаванандой прабху 054-493-8012 \n
URL:http://iskcon.org.il/event/sankirtana-v-tel-avive-7/
CATEGORIES:санкиртана
ATTACH;FMTTYPE=image/jpeg:http://iskcon.org.il/wp-content/uploads/WhatsApp-Image-2018-04-19-at-4.14.11-PM.jpeg
END:VEVENT
END:VCALENDAR